BEGIN:VCALENDAR
VERSION:2.0
X-WR-CALNAME:Veranstaltungen
METHOD:PUBLISH
BEGIN:VEVENT
CLASS:PUBLIC
CREATED:20260420T062942Z
DESCRIPTION:nullAerenzdallgemeng/ed-9511931
DTEND;TZID="Europe/Berlin":20261106T234500
DTSTAMP:20260420T062942Z
DTSTART;TZID="Europe/Berlin":20261106T120000
LAST-MODIFIED:20260420T062942Z
LOCATION:Hall Sportif, Medernach Millewee 00 L-7661 Medernach
PRIORITY:5
SEQUENCE:0
SUMMARY;LANGUAGE=de:welan.lu 2026
TRANSP:OPAQUE
UID:20260420T062942Z-uidGen@95f8aa98cd43
X-MICROSOFT-CDO-BUSYSTATUS:BUSY
X-MICROSOFT-CDO-IMPORTANCE:1
X-MS-OLK-AUTOFILLLOCATION:FALSE
BEGIN:VALARM
TRIGGER:-PT1440M
ACTION:DISPLAY
DESCRIPTION:Reminder
END:VALARM
END:VEVENT
END:VCALENDAR

