BEGIN:VCALENDAR
VERSION:2.0
X-WR-CALNAME:Veranstaltungen
METHOD:PUBLISH
BEGIN:VEVENT
CLASS:PUBLIC
CREATED:20260420T062507Z
DESCRIPTION:nullBeaufort/ed-9516853
DTEND;TZID="Europe/Berlin":20260723T123000
DTSTAMP:20260420T062507Z
DTSTART;TZID="Europe/Berlin":20260723T100000
LAST-MODIFIED:20260420T062507Z
LOCATION:Auberge de jeunesse Beaufort route de Dillingen 55 L-6315 BEAUFORT
PRIORITY:5
SEQUENCE:0
SUMMARY;LANGUAGE=de:Entdecke die faszinierende Welt des Bogenschießens in Beaufort!
TRANSP:OPAQUE
UID:20260420T062507Z-uidGen@95f8aa98cd43
X-MICROSOFT-CDO-BUSYSTATUS:BUSY
X-MICROSOFT-CDO-IMPORTANCE:1
X-MS-OLK-AUTOFILLLOCATION:FALSE
BEGIN:VALARM
TRIGGER:-PT1440M
ACTION:DISPLAY
DESCRIPTION:Reminder
END:VALARM
END:VEVENT
END:VCALENDAR

