BEGIN:VCALENDAR
VERSION:2.0
X-WR-CALNAME:Veranstaltungen
METHOD:PUBLISH
BEGIN:VEVENT
CLASS:PUBLIC
CREATED:20260422T082059Z
DESCRIPTION:nullBerdorf/ed-9526555
DTEND;TZID="Europe/Berlin":20260530T180000
DTSTAMP:20260422T082059Z
DTSTART;TZID="Europe/Berlin":20260530T140000
LAST-MODIFIED:20260422T082059Z
LOCATION:Tourist-Info Berdorf beim Maartbesch 3 L-6552 BERDORF
PRIORITY:5
SEQUENCE:0
SUMMARY;LANGUAGE=de:MËLLERDALL, Unesco Global Geopark
TRANSP:OPAQUE
UID:20260422T082059Z-uidGen@cc5241d592a4
X-MICROSOFT-CDO-BUSYSTATUS:BUSY
X-MICROSOFT-CDO-IMPORTANCE:1
X-MS-OLK-AUTOFILLLOCATION:FALSE
BEGIN:VALARM
TRIGGER:-PT1440M
ACTION:DISPLAY
DESCRIPTION:Reminder
END:VALARM
END:VEVENT
END:VCALENDAR

